BEGIN:VCALENDAR
VERSION:2.0
PRODID:-//Amagansett Chamber of Commerce - ECPv6.15.20//NONSGML v1.0//EN
CALSCALE:GREGORIAN
METHOD:PUBLISH
X-WR-CALNAME:Amagansett Chamber of Commerce
X-ORIGINAL-URL:https://amagansettchamber.org
X-WR-CALDESC:Events for Amagansett Chamber of Commerce
REFRESH-INTERVAL;VALUE=DURATION:PT1H
X-Robots-Tag:noindex
X-PUBLISHED-TTL:PT1H
BEGIN:VTIMEZONE
TZID:America/New_York
BEGIN:DAYLIGHT
TZOFFSETFROM:-0500
TZOFFSETTO:-0400
TZNAME:EDT
DTSTART:20250309T070000
END:DAYLIGHT
BEGIN:STANDARD
TZOFFSETFROM:-0400
TZOFFSETTO:-0500
TZNAME:EST
DTSTART:20251102T060000
END:STANDARD
BEGIN:DAYLIGHT
TZOFFSETFROM:-0500
TZOFFSETTO:-0400
TZNAME:EDT
DTSTART:20260308T070000
END:DAYLIGHT
BEGIN:STANDARD
TZOFFSETFROM:-0400
TZOFFSETTO:-0500
TZNAME:EST
DTSTART:20261101T060000
END:STANDARD
BEGIN:DAYLIGHT
TZOFFSETFROM:-0500
TZOFFSETTO:-0400
TZNAME:EDT
DTSTART:20270314T070000
END:DAYLIGHT
BEGIN:STANDARD
TZOFFSETFROM:-0400
TZOFFSETTO:-0500
TZNAME:EST
DTSTART:20271107T060000
END:STANDARD
END:VTIMEZONE
BEGIN:VEVENT
DTSTART;TZID=America/New_York:20260425T100000
DTEND;TZID=America/New_York:20260425T160000
DTSTAMP:20260423T070746
CREATED:20260415T152126Z
LAST-MODIFIED:20260415T153309Z
UID:15161-1777111200-1777132800@amagansettchamber.org
SUMMARY:East Hampton Historical Farm Museum Opening Weekend
DESCRIPTION:Screenshot
URL:https://amagansettchamber.org/event/east-hampton-historical-farm-museum-opening-weekend/
LOCATION:East Hampton Historic Farm Museum\, 131 N Main St\, East Hampton\, New York\, 11937\, United States
END:VEVENT
BEGIN:VEVENT
DTSTART;TZID=America/New_York:20260426T150000
DTEND;TZID=America/New_York:20260426T150000
DTSTAMP:20260423T070746
CREATED:20260415T153039Z
LAST-MODIFIED:20260415T153529Z
UID:15168-1777215600-1777215600@amagansettchamber.org
SUMMARY:3rd Annual Mathew Lester Memorial Pollinator Garden Benefit Concert
DESCRIPTION:Screenshot
URL:https://amagansettchamber.org/event/3rd-annual-mathew-lester-memorial-pollinator-garden-benefit-concert/
LOCATION:First Presbyterian Church of East Hampton\, 120 Main St\, East Hampton\, New York\, 11937\, United States
END:VEVENT
END:VCALENDAR