BEGIN:VCALENDAR
VERSION:2.0
PRODID:-//Amagansett Chamber of Commerce - ECPv6.15.20//NONSGML v1.0//EN
CALSCALE:GREGORIAN
METHOD:PUBLISH
X-WR-CALNAME:Amagansett Chamber of Commerce
X-ORIGINAL-URL:https://amagansettchamber.org
X-WR-CALDESC:Events for Amagansett Chamber of Commerce
REFRESH-INTERVAL;VALUE=DURATION:PT1H
X-Robots-Tag:noindex
X-PUBLISHED-TTL:PT1H
BEGIN:VTIMEZONE
TZID:America/New_York
BEGIN:DAYLIGHT
TZOFFSETFROM:-0500
TZOFFSETTO:-0400
TZNAME:EDT
DTSTART:20250309T070000
END:DAYLIGHT
BEGIN:STANDARD
TZOFFSETFROM:-0400
TZOFFSETTO:-0500
TZNAME:EST
DTSTART:20251102T060000
END:STANDARD
BEGIN:DAYLIGHT
TZOFFSETFROM:-0500
TZOFFSETTO:-0400
TZNAME:EDT
DTSTART:20260308T070000
END:DAYLIGHT
BEGIN:STANDARD
TZOFFSETFROM:-0400
TZOFFSETTO:-0500
TZNAME:EST
DTSTART:20261101T060000
END:STANDARD
BEGIN:DAYLIGHT
TZOFFSETFROM:-0500
TZOFFSETTO:-0400
TZNAME:EDT
DTSTART:20270314T070000
END:DAYLIGHT
BEGIN:STANDARD
TZOFFSETFROM:-0400
TZOFFSETTO:-0500
TZNAME:EST
DTSTART:20271107T060000
END:STANDARD
END:VTIMEZONE
BEGIN:VEVENT
DTSTART;TZID=America/New_York:20260713T183000
DTEND;TZID=America/New_York:20260713T193000
DTSTAMP:20260423T180839
CREATED:20260216T172759Z
LAST-MODIFIED:20260216T173308Z
UID:11957-1783967400-1783971000@amagansettchamber.org
SUMMARY:Amagansett Citizen's Advisory Committee Meeting
DESCRIPTION:Meetings are once a month typically on the 2nd Monday at 6:30pm at Amagansett School \n\n\n\nAll Are Welcome \n\n\n\nFor more information\, contact Ann Marie Lamprecht\, Legislative Secretary\, at alamprecht@ehamptonny.gov. \n\n\n\nCheck the Amagansett Citizen’s Advisory Committee webpage for cancelations.
URL:https://amagansettchamber.org/event/amagansett-citizens-advisory-committee-meeting-5/
LOCATION:Amagansett School\, 320 Main St\,\, Amagansett\,\, New York\, 11930\, United States
END:VEVENT
BEGIN:VEVENT
DTSTART;TZID=America/New_York:20260608T183000
DTEND;TZID=America/New_York:20260608T193000
DTSTAMP:20260423T180839
CREATED:20260216T172731Z
LAST-MODIFIED:20260216T173248Z
UID:11955-1780943400-1780947000@amagansettchamber.org
SUMMARY:Amagansett Citizen's Advisory Committee Meeting
DESCRIPTION:Meetings are once a month typically on the 2nd Monday at 6:30pm at Amagansett School \n\n\n\nAll Are Welcome \n\n\n\nFor more information\, contact Ann Marie Lamprecht\, Legislative Secretary\, at alamprecht@ehamptonny.gov. \n\n\n\nCheck the Amagansett Citizen’s Advisory Committee webpage for cancelations.
URL:https://amagansettchamber.org/event/amagansett-citizens-advisory-committee-meeting-4/
LOCATION:Amagansett School\, 320 Main St\,\, Amagansett\,\, New York\, 11930\, United States
END:VEVENT
BEGIN:VEVENT
DTSTART;TZID=America/New_York:20260511T183000
DTEND;TZID=America/New_York:20260511T193000
DTSTAMP:20260423T180839
CREATED:20260216T172640Z
LAST-MODIFIED:20260216T173226Z
UID:11953-1778524200-1778527800@amagansettchamber.org
SUMMARY:Amagansett Citizen's Advisory Committee Meeting
DESCRIPTION:Meetings are once a month typically on the 2nd Monday at 6:30pm at Amagansett School \n\n\n\nAll Are Welcome \n\n\n\nFor more information\, contact Ann Marie Lamprecht\, Legislative Secretary\, at alamprecht@ehamptonny.gov. \n\n\n\nCheck the Amagansett Citizen’s Advisory Committee webpage for cancelations.
URL:https://amagansettchamber.org/event/amagansett-citizens-advisory-committee-meeting-3/
LOCATION:Amagansett School\, 320 Main St\,\, Amagansett\,\, New York\, 11930\, United States
END:VEVENT
BEGIN:VEVENT
DTSTART;TZID=America/New_York:20260426T150000
DTEND;TZID=America/New_York:20260426T150000
DTSTAMP:20260423T180839
CREATED:20260415T153039Z
LAST-MODIFIED:20260415T153529Z
UID:15168-1777215600-1777215600@amagansettchamber.org
SUMMARY:3rd Annual Mathew Lester Memorial Pollinator Garden Benefit Concert
DESCRIPTION:Screenshot
URL:https://amagansettchamber.org/event/3rd-annual-mathew-lester-memorial-pollinator-garden-benefit-concert/
LOCATION:First Presbyterian Church of East Hampton\, 120 Main St\, East Hampton\, New York\, 11937\, United States
END:VEVENT
BEGIN:VEVENT
DTSTART;TZID=America/New_York:20260425T100000
DTEND;TZID=America/New_York:20260425T160000
DTSTAMP:20260423T180839
CREATED:20260415T152126Z
LAST-MODIFIED:20260415T153309Z
UID:15161-1777111200-1777132800@amagansettchamber.org
SUMMARY:East Hampton Historical Farm Museum Opening Weekend
DESCRIPTION:Screenshot
URL:https://amagansettchamber.org/event/east-hampton-historical-farm-museum-opening-weekend/
LOCATION:East Hampton Historic Farm Museum\, 131 N Main St\, East Hampton\, New York\, 11937\, United States
END:VEVENT
BEGIN:VEVENT
DTSTART;TZID=America/New_York:20260413T183000
DTEND;TZID=America/New_York:20260413T193000
DTSTAMP:20260423T180839
CREATED:20260216T172532Z
LAST-MODIFIED:20260216T173204Z
UID:11951-1776105000-1776108600@amagansettchamber.org
SUMMARY:Amagansett Citizen's Advisory Committee Meeting
DESCRIPTION:Meetings are once a month typically on the 2nd Monday at 6:30pm at Amagansett School \n\n\n\nAll Are Welcome \n\n\n\nFor more information\, contact Ann Marie Lamprecht\, Legislative Secretary\, at alamprecht@ehamptonny.gov. \n\n\n\nCheck the Amagansett Citizen’s Advisory Committee webpage for cancelations.
URL:https://amagansettchamber.org/event/amagansett-citizens-advisory-committee-meeting-2/
LOCATION:Amagansett School\, 320 Main St\,\, Amagansett\,\, New York\, 11930\, United States
END:VEVENT
BEGIN:VEVENT
DTSTART;TZID=America/New_York:20260314T120000
DTEND;TZID=America/New_York:20260314T130000
DTSTAMP:20260423T180839
CREATED:20260115T212557Z
LAST-MODIFIED:20260208T052639Z
UID:5685-1773489600-1773493200@amagansettchamber.org
SUMMARY:16th Annual Am O' Gansett St. Patrick's Day Parade
DESCRIPTION:The parade starts promptly at 12:00pm. \n \nThe parade route: \n \n1. Starts at the municipal parking lot on Main Street \n \n2. Head west down Main Street \n \n3. We turn around at Indian Wells Highway. \n \n4. We parade back to the municipal parking lot. \nThe parade is over at 12:05pm
URL:https://amagansettchamber.org/event/am-o-gansett-st-patricks-day-parade/
LOCATION:New York
END:VEVENT
BEGIN:VEVENT
DTSTART;TZID=America/New_York:20260309T183000
DTEND;TZID=America/New_York:20260309T193000
DTSTAMP:20260423T180839
CREATED:20260216T172217Z
LAST-MODIFIED:20260216T173145Z
UID:11944-1773081000-1773084600@amagansettchamber.org
SUMMARY:Amagansett Citizen's Advisory Committee Meeting
DESCRIPTION:Meetings are once a month typically on the 2nd Monday at 6:30pm at Amagansett School \n\n\n\nAll Are Welcome \n\n\n\nFor more information\, contact Ann Marie Lamprecht\, Legislative Secretary\, at alamprecht@ehamptonny.gov. \n\n\n\nCheck the Amagansett Citizen’s Advisory Committee webpage for cancelations.
URL:https://amagansettchamber.org/event/amagansett-citizens-advisory-committee-meeting/
LOCATION:Amagansett School\, 320 Main St\,\, Amagansett\,\, New York\, 11930\, United States
END:VEVENT
BEGIN:VEVENT
DTSTART;TZID=America/New_York:20260210T180000
DTEND;TZID=America/New_York:20260210T200000
DTSTAMP:20260423T180839
CREATED:20260130T161253Z
LAST-MODIFIED:20260130T163747Z
UID:8857-1770746400-1770753600@amagansettchamber.org
SUMMARY:NYS Public Meeting - Project Update Southern Pine Beetle
DESCRIPTION:Community Invited to Learn About tree work and address damage from the southern pine beetle at Napeague state park Montauk\, NY\, February 10th\, 2026 – The New York State Office of Parks\, Recreation and Historic Preservation (OPRHP) invites community members to a public meeting to discuss and learn about the phased dead trees removal efforts\, trail safety improvements\, air curtain burning and on going work to reduce wildfire fuel loads. \n\n\n\nAgenda: \n\n\n\nAttendees will learn about the phased tree removal efforts\, trail safety improvements\, and ongoing work to reduce wildfire fuel loads. \n\n\n\nKey project highlights include: \n\n\n\n\nContinued dead or hazard tree cutting in priority locations.\n\n\n\nContinued piling of downed trees and debris in preparation for disposal.\n\n\n\nCompletion of a Wildland Fire Management Plan\, including a Hazard & Risk Analysis.\n\n\n\nContinued dead tree\, slash pile and stump removal for improved emergency access.\n\n\n\nAir-curtain burner contract out for bid. Work will reduce forest fuel load.\n\n\n\nContinued development and implementation of a restoration plan to support resilient habitats.\n\n\n\n\nOPRHP will also discuss the environmental considerations guiding this work\, such as compliance with federal protections for the Northern Long-eared Bat. \n\n\n\nPublic input is encouraged\, and New York State Office of Parks\, Recreation and Historic Preservation and New York State Department of Environment Conservation officials will be available to answer questions. This meeting is an opportunity to engage with the community and share progress on this critical initiative.  \n\n\n\nFor more information about the meeting or the project\, please contact OPRHP at 631-668-5000.00.
URL:https://amagansettchamber.org/event/nys-public-meeting-project-update-southern-pine-beetle/
LOCATION:Montauk Downs State Park\, 50 S. Fairview Ave\, Montauk\, New York\, 11954\, United States
END:VEVENT
END:VCALENDAR